BEGIN:VCALENDAR
VERSION:2.0
PRODID:spatie/icalendar-generator
DESCRIPTION:Évènements de Badminton Olympique Pernes
X-WR-CALDESC:Évènements de Badminton Olympique Pernes
REFRESH-INTERVAL;VALUE=DURATION:PT1440M
X-PUBLISHED-TTL:PT1440M
BEGIN:VTIMEZONE
TZID:Etc/GMT+0
BEGIN:STANDARD
DTSTART:20250118T180000Z
TZOFFSETFROM:+0000
TZOFFSETTO:+0000
END:STANDARD
END:VTIMEZONE
BEGIN:VTIMEZONE
TZID:UTC
BEGIN:STANDARD
DTSTART:20250724T071824Z
TZOFFSETFROM:+0000
TZOFFSETTO:+0000
END:STANDARD
END:VTIMEZONE
BEGIN:VEVENT
UID:259-7
DTSTAMP:20260420T071824Z
SUMMARY:Entraînement Jeunes (Loisirs/Compétiteurs)
LOCATION:Gymnase Paul de Vivie
ORGANIZER;CN=Badminton Olympique de Pernes:MAILTO:communication@badminton-o
 lympique-pernes.com
RRULE:FREQ=WEEKLY;UNTIL=20260630T000000Z
DTSTART;TZID=Etc/GMT+0:20251015T180000
DTEND;TZID=Etc/GMT+0:20251015T193000
X-ALT-DESC;FMTTYPE=TEXT/HTML:Créneau d'entraînement réservé aux jeunes 
 sur 2 salles. Le créneau est encadré par notre entraîneur salarié et d
 es entraîneurs bénévoles.
CATEGORIES:Créneaux entraînement jeunes
URL;VALUE=URI:https://www.badminton-olympique-pernes.com/mc-events/entraine
 ment-jeunes-loisirs-competiteurs/?mc_id=259
METHOD:PUBLISH
END:VEVENT
END:VCALENDAR