BEGIN:VCALENDAR
VERSION:2.0
PRODID:spatie/icalendar-generator
DESCRIPTION:Évènements de Badminton Olympique Pernes
X-WR-CALDESC:Évènements de Badminton Olympique Pernes
REFRESH-INTERVAL;VALUE=DURATION:PT1440M
X-PUBLISHED-TTL:PT1440M
BEGIN:VTIMEZONE
TZID:Etc/GMT+0
BEGIN:STANDARD
DTSTART:20241228T193000Z
TZOFFSETFROM:+0000
TZOFFSETTO:+0000
END:STANDARD
END:VTIMEZONE
BEGIN:VTIMEZONE
TZID:UTC
BEGIN:STANDARD
DTSTART:20250724T014138Z
TZOFFSETFROM:+0000
TZOFFSETTO:+0000
END:STANDARD
END:VTIMEZONE
BEGIN:VEVENT
UID:298-8
DTSTAMP:20260420T014138Z
SUMMARY:Entraînement Adultes (Débutant)
LOCATION:Gymnase Paul de Vivie
ORGANIZER;CN=Badminton Olympique de Pernes:MAILTO:communication@badminton-o
 lympique-pernes.com
RRULE:FREQ=WEEKLY;UNTIL=20260630T000000Z
DTSTART;TZID=Etc/GMT+0:20250924T193000
DTEND;TZID=Etc/GMT+0:20250924T210000
X-ALT-DESC;FMTTYPE=TEXT/HTML:Créneau d'entraînement réservé aux Adultes
  débutants. Le créneau est encadré par notre entraîneur salarié.
CATEGORIES:Créneaux entraînement adultes
URL;VALUE=URI:https://www.badminton-olympique-pernes.com/mc-events/entraine
 ment-adultes-debutant/?mc_id=298
METHOD:PUBLISH
END:VEVENT
END:VCALENDAR