BEGIN:VCALENDAR
VERSION:2.0
PRODID:spatie/icalendar-generator
DESCRIPTION:Évènements de Badminton Olympique Pernes
X-WR-CALDESC:Évènements de Badminton Olympique Pernes
REFRESH-INTERVAL;VALUE=DURATION:PT1440M
X-PUBLISHED-TTL:PT1440M
BEGIN:VTIMEZONE
TZID:Etc/GMT+0
BEGIN:STANDARD
DTSTART:20250815T160000Z
TZOFFSETFROM:+0000
TZOFFSETTO:+0000
END:STANDARD
END:VTIMEZONE
BEGIN:VTIMEZONE
TZID:UTC
BEGIN:STANDARD
DTSTART:20250724T065412Z
TZOFFSETFROM:+0000
TZOFFSETTO:+0000
END:STANDARD
END:VTIMEZONE
BEGIN:VEVENT
UID:37-2
DTSTAMP:20260420T065412Z
SUMMARY:Créneau Séniors (55 ans et +)
LOCATION:Gymnase Paul de Vivie
ORGANIZER;CN=Badminton Olympique de Pernes:MAILTO:communication@badminton-o
 lympique-pernes.com
RRULE:FREQ=WEEKLY;UNTIL=20260630T000000Z
DTSTART;TZID=Etc/GMT+0:20260512T160000
DTEND;TZID=Etc/GMT+0:20260512T173000
X-ALT-DESC;FMTTYPE=TEXT/HTML:Créneau d'entraînement réservé aux sénior
 s de 55 ans et plus. Le créneau est encadré par notre entraîneur salari
 é.
CATEGORIES:Créneaux entraînement adultes
URL;VALUE=URI:https://www.badminton-olympique-pernes.com/mc-events/creneau-
 seniors-55-ans-et/?mc_id=37
METHOD:PUBLISH
END:VEVENT
END:VCALENDAR