BEGIN:VCALENDAR
VERSION:2.0
PRODID:spatie/icalendar-generator
DESCRIPTION:Évènements de Badminton Olympique Pernes
X-WR-CALDESC:Évènements de Badminton Olympique Pernes
REFRESH-INTERVAL;VALUE=DURATION:PT1440M
X-PUBLISHED-TTL:PT1440M
BEGIN:VTIMEZONE
TZID:Etc/GMT+0
BEGIN:STANDARD
DTSTART:20241222T183000Z
TZOFFSETFROM:+0000
TZOFFSETTO:+0000
END:STANDARD
END:VTIMEZONE
BEGIN:VTIMEZONE
TZID:UTC
BEGIN:STANDARD
DTSTART:20250724T051440Z
TZOFFSETFROM:+0000
TZOFFSETTO:+0000
END:STANDARD
END:VTIMEZONE
BEGIN:VEVENT
UID:424-10
DTSTAMP:20260420T051440Z
SUMMARY:Entraînement Jeunes (Régionaux)
LOCATION:Gymnase Paul de Vivie
ORGANIZER;CN=Badminton Olympique de Pernes:MAILTO:communication@badminton-o
 lympique-pernes.com
RRULE:FREQ=WEEKLY;UNTIL=20260630T000000Z
DTSTART;TZID=Etc/GMT+0:20250918T183000
DTEND;TZID=Etc/GMT+0:20250918T203000
X-ALT-DESC;FMTTYPE=TEXT/HTML:Créneau d'entraînement réservé aux jeunes 
 (niveau régional). Le créneau est encadré par notre entraîneur salari
 é.
CATEGORIES:Créneaux entraînement jeunes
URL;VALUE=URI:https://www.badminton-olympique-pernes.com/mc-events/entraine
 ment-jeunes-regionaux/?mc_id=424
METHOD:PUBLISH
END:VEVENT
END:VCALENDAR