BEGIN:VCALENDAR
VERSION:2.0
PRODID:spatie/icalendar-generator
DESCRIPTION:Évènements de Badminton Olympique Pernes
X-WR-CALDESC:Évènements de Badminton Olympique Pernes
REFRESH-INTERVAL;VALUE=DURATION:PT1440M
X-PUBLISHED-TTL:PT1440M
BEGIN:VTIMEZONE
TZID:Etc/GMT+0
BEGIN:STANDARD
DTSTART:20250106T190000Z
TZOFFSETFROM:+0000
TZOFFSETTO:+0000
END:STANDARD
END:VTIMEZONE
BEGIN:VTIMEZONE
TZID:UTC
BEGIN:STANDARD
DTSTART:20250724T033204Z
TZOFFSETFROM:+0000
TZOFFSETTO:+0000
END:STANDARD
END:VTIMEZONE
BEGIN:VEVENT
UID:636-15
DTSTAMP:20260420T033204Z
SUMMARY:Entraînement Adulte (Intermédiaire)
LOCATION:Gymnase Paul de Vivie
ORGANIZER;CN=Badminton Olympique de Pernes:MAILTO:communication@badminton-o
 lympique-pernes.com
RRULE:FREQ=WEEKLY;UNTIL=20260630T000000Z
DTSTART;TZID=Etc/GMT+0:20251003T190000
DTEND;TZID=Etc/GMT+0:20251003T203000
X-ALT-DESC;FMTTYPE=TEXT/HTML:Créneau d'entraînement réservé aux Adultes
  intermédiaires. Le créneau est encadré par notre entraîneur salarié.
CATEGORIES:Créneaux entraînement adultes
URL;VALUE=URI:https://www.badminton-olympique-pernes.com/mc-events/entraine
 ment-adulte-intermediaire/?mc_id=636
METHOD:PUBLISH
END:VEVENT
END:VCALENDAR