BEGIN:VCALENDAR
VERSION:2.0
PRODID:spatie/icalendar-generator
DESCRIPTION:Évènements de Badminton Olympique Pernes
X-WR-CALDESC:Évènements de Badminton Olympique Pernes
REFRESH-INTERVAL;VALUE=DURATION:PT1440M
X-PUBLISHED-TTL:PT1440M
BEGIN:VTIMEZONE
TZID:Etc/GMT+0
BEGIN:STANDARD
DTSTART:20250902T110000Z
TZOFFSETFROM:+0000
TZOFFSETTO:+0000
END:STANDARD
END:VTIMEZONE
BEGIN:VTIMEZONE
TZID:UTC
BEGIN:STANDARD
DTSTART:20250724T065436Z
TZOFFSETFROM:+0000
TZOFFSETTO:+0000
END:STANDARD
END:VTIMEZONE
BEGIN:VEVENT
UID:754-17
DTSTAMP:20260420T065436Z
SUMMARY:Jeu libre
LOCATION:Gymnase Paul de Vivie
ORGANIZER;CN=Badminton Olympique de Pernes:MAILTO:communication@badminton-o
 lympique-pernes.com
RRULE:FREQ=WEEKLY;UNTIL=20260630T000000Z
DTSTART;TZID=Etc/GMT+0:20260530T110000
DTEND;TZID=Etc/GMT+0:20260530T130000
X-ALT-DESC;FMTTYPE=TEXT/HTML:Jeu libre réservé aux Adultes.
CATEGORIES:Créneau jeu libre
URL;VALUE=URI:https://www.badminton-olympique-pernes.com/mc-events/jeu-libr
 e-5/?mc_id=754
METHOD:PUBLISH
END:VEVENT
END:VCALENDAR