BEGIN:VCALENDAR
VERSION:2.0
PRODID:spatie/icalendar-generator
DESCRIPTION:Évènements de Badminton Olympique Pernes
X-WR-CALDESC:Évènements de Badminton Olympique Pernes
REFRESH-INTERVAL;VALUE=DURATION:PT1440M
X-PUBLISHED-TTL:PT1440M
BEGIN:VTIMEZONE
TZID:Etc/GMT+0
BEGIN:STANDARD
DTSTART:20241105T110000Z
TZOFFSETFROM:+0000
TZOFFSETTO:+0000
END:STANDARD
END:VTIMEZONE
BEGIN:VTIMEZONE
TZID:UTC
BEGIN:STANDARD
DTSTART:20250727T013038Z
TZOFFSETFROM:+0000
TZOFFSETTO:+0000
END:STANDARD
END:VTIMEZONE
BEGIN:VEVENT
UID:786-24
DTSTAMP:20260423T013038Z
SUMMARY:Créneau été (jeu libre)
LOCATION:Gymnase Paul de Vivie
ORGANIZER;CN=Badminton Olympique de Pernes:MAILTO:communication@badminton-o
 lympique-pernes.com
RRULE:FREQ=WEEKLY;UNTIL=20250824T000000Z
DTSTART;TZID=Etc/GMT+0:20250802T110000
DTEND;TZID=Etc/GMT+0:20250802T130000
X-ALT-DESC;FMTTYPE=TEXT/HTML:Durant l'été\, le club propose du jeu libre 
 les mardis\, jeudis et samedis. Merci de respecter les horaires\, personne
  ne doit être présent dans le gymnase avant 18h00\, ni après 19h45 les 
 mardis et jeudis. Et les samedis\, personne ne doit être présent avant 1
 1h00 ni après 13h00. Le non-respect de ces consignes de la…
CATEGORIES:Créneau jeu libre
URL;VALUE=URI:https://www.badminton-olympique-pernes.com/mc-events/creneau-
 ete-jeu-libre-3/?mc_id=786
METHOD:PUBLISH
END:VEVENT
END:VCALENDAR