BEGIN:VCALENDAR
VERSION:2.0
PRODID:spatie/icalendar-generator
DESCRIPTION:Évènements de Badminton Olympique Pernes
X-WR-CALDESC:Évènements de Badminton Olympique Pernes
REFRESH-INTERVAL;VALUE=DURATION:PT1440M
X-PUBLISHED-TTL:PT1440M
BEGIN:VTIMEZONE
TZID:Etc/GMT+0
BEGIN:STANDARD
DTSTART:20241201T183000Z
TZOFFSETFROM:+0000
TZOFFSETTO:+0000
END:STANDARD
END:VTIMEZONE
BEGIN:VTIMEZONE
TZID:UTC
BEGIN:STANDARD
DTSTART:20250724T052510Z
TZOFFSETFROM:+0000
TZOFFSETTO:+0000
END:STANDARD
END:VTIMEZONE
BEGIN:VEVENT
UID:794-27
DTSTAMP:20260420T052510Z
SUMMARY:Jeu libre (reprise créneaux habituels)
LOCATION:Gymnase Paul de Vivie
ORGANIZER;CN=Badminton Olympique de Pernes:MAILTO:communication@badminton-o
 lympique-pernes.com
RRULE:FREQ=WEEKLY;UNTIL=20250907T000000Z
DTSTART;TZID=Etc/GMT+0:20250828T183000
DTEND;TZID=Etc/GMT+0:20250828T224500
X-ALT-DESC;FMTTYPE=TEXT/HTML:Reprise des créneaux habituels\, 100% jeu lib
 re\, les entraînements reprendront seulement la 2ème semaine de Septembr
 e.
CATEGORIES:Créneau jeu libre
URL;VALUE=URI:https://www.badminton-olympique-pernes.com/mc-events/jeu-libr
 e-reprise-creneaux-habituels-3/?mc_id=794
METHOD:PUBLISH
END:VEVENT
END:VCALENDAR