BEGIN:VCALENDAR
VERSION:2.0
PRODID:spatie/icalendar-generator
DESCRIPTION:Évènements de Badminton Olympique Pernes
X-WR-CALDESC:Évènements de Badminton Olympique Pernes
REFRESH-INTERVAL;VALUE=DURATION:PT1440M
X-PUBLISHED-TTL:PT1440M
BEGIN:VTIMEZONE
TZID:Etc/GMT+0
BEGIN:STANDARD
DTSTART:20241203T090000Z
TZOFFSETFROM:+0000
TZOFFSETTO:+0000
END:STANDARD
END:VTIMEZONE
BEGIN:VTIMEZONE
TZID:UTC
BEGIN:STANDARD
DTSTART:20250724T052546Z
TZOFFSETFROM:+0000
TZOFFSETTO:+0000
END:STANDARD
END:VTIMEZONE
BEGIN:VEVENT
UID:809-31
DTSTAMP:20260420T052546Z
SUMMARY:Stage de reprise (Adultes)
LOCATION:Gymnase Paul de Vivie
ORGANIZER;CN=Badminton Olympique de Pernes:MAILTO:communication@badminton-o
 lympique-pernes.com
RRULE:FREQ=DAILY;UNTIL=20250901T000000Z
DTSTART;TZID=Etc/GMT+0:20250830T090000
DTEND;TZID=Etc/GMT+0:20250830T170000
X-ALT-DESC;FMTTYPE=TEXT/HTML:Comme chaque saison\, nous vous proposons un s
 tage de reprise pour les Adultes encadré par notre entraîneur salarié. 
 Prévoyez un pique-nique !
CATEGORIES:Stages
URL;VALUE=URI:https://www.badminton-olympique-pernes.com/mc-events/stage-de
 -reprise-adultes/?mc_id=809
METHOD:PUBLISH
END:VEVENT
END:VCALENDAR