BEGIN:VCALENDAR
VERSION:2.0
PRODID:spatie/icalendar-generator
DESCRIPTION:Évènements de Badminton Olympique Pernes
X-WR-CALDESC:Évènements de Badminton Olympique Pernes
REFRESH-INTERVAL;VALUE=DURATION:PT1440M
X-PUBLISHED-TTL:PT1440M
BEGIN:VTIMEZONE
TZID:Etc/GMT+0
BEGIN:STANDARD
DTSTART:20250108T080000Z
TZOFFSETFROM:+0000
TZOFFSETTO:+0000
END:STANDARD
END:VTIMEZONE
BEGIN:VTIMEZONE
TZID:UTC
BEGIN:STANDARD
DTSTART:20250723T235506Z
TZOFFSETFROM:+0000
TZOFFSETTO:+0000
END:STANDARD
END:VTIMEZONE
BEGIN:VEVENT
UID:812-32
DTSTAMP:20260419T235506Z
SUMMARY:Tournoi des Fontaines (Domicile)
LOCATION:Gymnase Paul de Vivie
ORGANIZER;CN=Badminton Olympique de Pernes:MAILTO:communication@badminton-o
 lympique-pernes.com
RRULE:FREQ=DAILY;UNTIL=20251006T000000Z
DTSTART;TZID=Etc/GMT+0:20251005T080000
DTEND;TZID=Etc/GMT+0:20251005T220000
X-ALT-DESC;FMTTYPE=TEXT/HTML:
CATEGORIES:Compétitions
URL;VALUE=URI:https://www.badminton-olympique-pernes.com/mc-events/tournoi-
 des-fontaines-domicile/?mc_id=812
METHOD:PUBLISH
END:VEVENT
END:VCALENDAR