BEGIN:VCALENDAR
VERSION:2.0
PRODID:spatie/icalendar-generator
DESCRIPTION:Évènements de Badminton Olympique Pernes
X-WR-CALDESC:Évènements de Badminton Olympique Pernes
REFRESH-INTERVAL;VALUE=DURATION:PT1440M
X-PUBLISHED-TTL:PT1440M
BEGIN:VTIMEZONE
TZID:Etc/GMT+0
BEGIN:STANDARD
DTSTART:20250204T000000Z
TZOFFSETFROM:+0000
TZOFFSETTO:+0000
END:STANDARD
END:VTIMEZONE
BEGIN:VTIMEZONE
TZID:UTC
BEGIN:STANDARD
DTSTART:20250724T065613Z
TZOFFSETFROM:+0000
TZOFFSETTO:+0000
END:STANDARD
END:VTIMEZONE
BEGIN:VEVENT
UID:824-43
DTSTAMP:20260420T065613Z
SUMMARY:Toussaint (Gymnase fermé)
LOCATION:Gymnase Paul de Vivie
ORGANIZER;CN=Badminton Olympique de Pernes:MAILTO:communication@badminton-o
 lympique-pernes.com
DTSTART;TZID=Etc/GMT+0;VALUE=DATE:20251101
DTEND;TZID=Etc/GMT+0;VALUE=DATE:20251102
X-ALT-DESC;FMTTYPE=TEXT/HTML:Les jours fériés\, le gymnase est fermé.
CATEGORIES:Férié/Fermeture
URL;VALUE=URI:https://www.badminton-olympique-pernes.com/mc-events/toussain
 t-gymnase-ferme/
METHOD:PUBLISH
END:VEVENT
END:VCALENDAR