BEGIN:VCALENDAR
VERSION:2.0
PRODID:spatie/icalendar-generator
DESCRIPTION:Évènements de Badminton Olympique Pernes
X-WR-CALDESC:Évènements de Badminton Olympique Pernes
REFRESH-INTERVAL;VALUE=DURATION:PT1440M
X-PUBLISHED-TTL:PT1440M
BEGIN:VTIMEZONE
TZID:Etc/GMT+0
BEGIN:STANDARD
DTSTART:20250408T000000Z
TZOFFSETFROM:+0000
TZOFFSETTO:+0000
END:STANDARD
END:VTIMEZONE
BEGIN:VTIMEZONE
TZID:UTC
BEGIN:STANDARD
DTSTART:20250725T144720Z
TZOFFSETFROM:+0000
TZOFFSETTO:+0000
END:STANDARD
END:VTIMEZONE
BEGIN:VEVENT
UID:844-49
DTSTAMP:20260421T144720Z
SUMMARY:Fermeture annuelle (Fêtes de fin d'année)
LOCATION:Gymnase Paul de Vivie
ORGANIZER;CN=Badminton Olympique de Pernes:MAILTO:communication@badminton-o
 lympique-pernes.com
RRULE:FREQ=DAILY;UNTIL=20260103T000000Z
DTSTART;TZID=Etc/GMT+0;VALUE=DATE:20260103
DTEND;TZID=Etc/GMT+0;VALUE=DATE:20260104
X-ALT-DESC;FMTTYPE=TEXT/HTML:Le gymnase est fermée pendant les fêtes de f
 in d'année.
CATEGORIES:Férié/Fermeture
URL;VALUE=URI:https://www.badminton-olympique-pernes.com/mc-events/fermetur
 e-annuelle-fetes-de-fin-dannee-2/?mc_id=844
METHOD:PUBLISH
END:VEVENT
END:VCALENDAR