BEGIN:VCALENDAR
VERSION:2.0
PRODID:spatie/icalendar-generator
DESCRIPTION:Évènements de Badminton Olympique Pernes
X-WR-CALDESC:Évènements de Badminton Olympique Pernes
REFRESH-INTERVAL;VALUE=DURATION:PT1440M
X-PUBLISHED-TTL:PT1440M
BEGIN:VTIMEZONE
TZID:Etc/GMT+0
BEGIN:STANDARD
DTSTART:20250721T183000Z
TZOFFSETFROM:+0000
TZOFFSETTO:+0000
END:STANDARD
END:VTIMEZONE
BEGIN:VTIMEZONE
TZID:UTC
BEGIN:STANDARD
DTSTART:20250725T124451Z
TZOFFSETFROM:+0000
TZOFFSETTO:+0000
END:STANDARD
END:VTIMEZONE
BEGIN:VEVENT
UID:872-58
DTSTAMP:20260421T124451Z
SUMMARY:Jeu libre
LOCATION:Gymnase Paul de Vivie
ORGANIZER;CN=Badminton Olympique de Pernes:MAILTO:communication@badminton-o
 lympique-pernes.com
RRULE:FREQ=DAILY;UNTIL=20260418T000000Z
DTSTART;TZID=Etc/GMT+0:20260417T183000
DTEND;TZID=Etc/GMT+0:20260417T224500
X-ALT-DESC;FMTTYPE=TEXT/HTML:Pendant les vacances scolaires\, tous les cré
 neaux passent en jeu libre.
CATEGORIES:Créneau jeu libre
URL;VALUE=URI:https://www.badminton-olympique-pernes.com/mc-events/jeu-libr
 e-15/?mc_id=872
METHOD:PUBLISH
END:VEVENT
END:VCALENDAR