BEGIN:VCALENDAR
VERSION:2.0
PRODID:spatie/icalendar-generator
DESCRIPTION:Évènements de Badminton Olympique Pernes
X-WR-CALDESC:Évènements de Badminton Olympique Pernes
REFRESH-INTERVAL;VALUE=DURATION:PT1440M
X-PUBLISHED-TTL:PT1440M
BEGIN:VTIMEZONE
TZID:Etc/GMT+0
BEGIN:STANDARD
DTSTART:20250423T090000Z
TZOFFSETFROM:+0000
TZOFFSETTO:+0000
END:STANDARD
END:VTIMEZONE
BEGIN:VTIMEZONE
TZID:UTC
BEGIN:STANDARD
DTSTART:20250726T180651Z
TZOFFSETFROM:+0000
TZOFFSETTO:+0000
END:STANDARD
END:VTIMEZONE
BEGIN:VEVENT
UID:927-65
DTSTAMP:20260422T180651Z
SUMMARY:Interclubs Régionale 2 - J4 (Salon-de-Provence)
LOCATION:Déplacement extérieur
ORGANIZER;CN=Badminton Olympique de Pernes:MAILTO:communication@badminton-o
 lympique-pernes.com
DTSTART;TZID=Etc/GMT+0:20260118T090000
DTEND;TZID=Etc/GMT+0:20260118T180000
X-ALT-DESC;FMTTYPE=TEXT/HTML:Notre équipe 2 jouera à l'extérieur pour sa
  4ème journée de Régionale 2. Double rencontre : Antibes + Cagnes-sur-M
 er.
CATEGORIES:Interclubs
URL;VALUE=URI:https://www.badminton-olympique-pernes.com/mc-events/interclu
 bs-regionale-2-j4-salon-de-provence/
METHOD:PUBLISH
END:VEVENT
END:VCALENDAR