BEGIN:VCALENDAR
VERSION:2.0
PRODID:spatie/icalendar-generator
DESCRIPTION:Évènements de Badminton Olympique Pernes
X-WR-CALDESC:Évènements de Badminton Olympique Pernes
REFRESH-INTERVAL;VALUE=DURATION:PT1440M
X-PUBLISHED-TTL:PT1440M
BEGIN:VTIMEZONE
TZID:Etc/GMT+0
BEGIN:STANDARD
DTSTART:20250730T080000Z
TZOFFSETFROM:+0000
TZOFFSETTO:+0000
END:STANDARD
END:VTIMEZONE
BEGIN:VTIMEZONE
TZID:UTC
BEGIN:STANDARD
DTSTART:20250725T160523Z
TZOFFSETFROM:+0000
TZOFFSETTO:+0000
END:STANDARD
END:VTIMEZONE
BEGIN:VEVENT
UID:968-102
DTSTAMP:20260421T160523Z
SUMMARY:The SCOOP 6.0 par équipe (Domicile)
LOCATION:Gymnase Paul de Vivie
ORGANIZER;CN=Badminton Olympique de Pernes:MAILTO:communication@badminton-o
 lympique-pernes.com
DTSTART;TZID=Etc/GMT+0:20260426T080000
DTEND;TZID=Etc/GMT+0:20260426T220000
X-ALT-DESC;FMTTYPE=TEXT/HTML:
CATEGORIES:Compétitions
URL;VALUE=URI:https://www.badminton-olympique-pernes.com/mc-events/the-scoo
 p-6-0-par-equipe-domicile-2/
METHOD:PUBLISH
END:VEVENT
END:VCALENDAR