BEGIN:VCALENDAR
VERSION:2.0
PRODID:spatie/icalendar-generator
DESCRIPTION:Évènements de Badminton Olympique Pernes
X-WR-CALDESC:Évènements de Badminton Olympique Pernes
REFRESH-INTERVAL;VALUE=DURATION:PT1440M
X-PUBLISHED-TTL:PT1440M
BEGIN:VTIMEZONE
TZID:Etc/GMT+0
BEGIN:STANDARD
DTSTART:20241210T091500Z
TZOFFSETFROM:+0000
TZOFFSETTO:+0000
END:STANDARD
END:VTIMEZONE
BEGIN:VTIMEZONE
TZID:UTC
BEGIN:STANDARD
DTSTART:20250724T013901Z
TZOFFSETFROM:+0000
TZOFFSETTO:+0000
END:STANDARD
END:VTIMEZONE
BEGIN:VEVENT
UID:799-29
DTSTAMP:20260420T013901Z
SUMMARY:Jeu libre (reprise créneaux habituels)
LOCATION:Gymnase Paul de Vivie
ORGANIZER;CN=Badminton Olympique de Pernes:MAILTO:communication@badminton-o
 lympique-pernes.com
RRULE:FREQ=WEEKLY;UNTIL=20250907T000000Z
DTSTART;TZID=Etc/GMT+0:20250906T091500
DTEND;TZID=Etc/GMT+0:20250906T130000
X-ALT-DESC;FMTTYPE=TEXT/HTML:Reprise des créneaux habituels\, 100% jeu lib
 re\, les entraînements reprendront seulement la 2ème semaine de Septembr
 e.
CATEGORIES:Créneau jeu libre
URL;VALUE=URI:https://www.badminton-olympique-pernes.com/mc-events/jeu-libr
 e-reprise-creneaux-habituels-5/?mc_id=799
METHOD:PUBLISH
END:VEVENT
END:VCALENDAR