BEGIN:VCALENDAR
VERSION:2.0
PRODID:spatie/icalendar-generator
DESCRIPTION:Évènements de Badminton Olympique Pernes
X-WR-CALDESC:Évènements de Badminton Olympique Pernes
REFRESH-INTERVAL;VALUE=DURATION:PT1440M
X-PUBLISHED-TTL:PT1440M
BEGIN:VTIMEZONE
TZID:Etc/GMT+0
BEGIN:STANDARD
DTSTART:20250318T150000Z
TZOFFSETFROM:+0000
TZOFFSETTO:+0000
END:STANDARD
END:VTIMEZONE
BEGIN:VTIMEZONE
TZID:UTC
BEGIN:STANDARD
DTSTART:20250724T032742Z
TZOFFSETFROM:+0000
TZOFFSETTO:+0000
END:STANDARD
END:VTIMEZONE
BEGIN:VEVENT
UID:817-37
DTSTAMP:20260420T032742Z
SUMMARY:Interclubs Nationale 3 - J5 (Domicile)
LOCATION:Gymnase Paul de Vivie
ORGANIZER;CN=Badminton Olympique de Pernes:MAILTO:communication@badminton-o
 lympique-pernes.com
DTSTART;TZID=Etc/GMT+0:20251213T150000
DTEND;TZID=Etc/GMT+0:20251213T200000
X-ALT-DESC;FMTTYPE=TEXT/HTML:Notre équipe 1 jouera à la maison et accueil
 lera Clermont-Ferrand pour sa 5ème journée de Nationale 3.
CATEGORIES:Interclubs
URL;VALUE=URI:https://www.badminton-olympique-pernes.com/mc-events/interclu
 bs-nationale-3-j5-domicile/
METHOD:PUBLISH
END:VEVENT
END:VCALENDAR