BEGIN:VCALENDAR
VERSION:2.0
PRODID:spatie/icalendar-generator
DESCRIPTION:Évènements de Badminton Olympique Pernes
X-WR-CALDESC:Évènements de Badminton Olympique Pernes
REFRESH-INTERVAL;VALUE=DURATION:PT1440M
X-PUBLISHED-TTL:PT1440M
BEGIN:VTIMEZONE
TZID:Etc/GMT+0
BEGIN:STANDARD
DTSTART:20241008T140000Z
TZOFFSETFROM:+0000
TZOFFSETTO:+0000
END:STANDARD
END:VTIMEZONE
BEGIN:VTIMEZONE
TZID:UTC
BEGIN:STANDARD
DTSTART:20250726T162810Z
TZOFFSETFROM:+0000
TZOFFSETTO:+0000
END:STANDARD
END:VTIMEZONE
BEGIN:VEVENT
UID:880-61
DTSTAMP:20260422T162810Z
SUMMARY:Fête du club
LOCATION:Gymnase + Stade Gustave Rame
ORGANIZER;CN=Badminton Olympique de Pernes:MAILTO:communication@badminton-o
 lympique-pernes.com
DTSTART;TZID=Etc/GMT+0:20250705T140000
DTEND;TZID=Etc/GMT+0:20250705T235500
X-ALT-DESC;FMTTYPE=TEXT/HTML:Au programme : 14H00 : tournoi interne \"MADE 
 IN BOP\" au gymnase\, 19H00 : Soirée festive au stade GUSTAVE RAME\, jusq
 u'au bout de la nuit !
CATEGORIES:Évènements particuliers
URL;VALUE=URI:https://www.badminton-olympique-pernes.com/mc-events/fete-du-
 club/
METHOD:PUBLISH
END:VEVENT
END:VCALENDAR