BEGIN:VCALENDAR
VERSION:2.0
PRODID:spatie/icalendar-generator
DESCRIPTION:Évènements de Badminton Olympique Pernes
X-WR-CALDESC:Évènements de Badminton Olympique Pernes
REFRESH-INTERVAL;VALUE=DURATION:PT1440M
X-PUBLISHED-TTL:PT1440M
BEGIN:VTIMEZONE
TZID:Etc/GMT+0
BEGIN:STANDARD
DTSTART:20250212T090000Z
TZOFFSETFROM:+0000
TZOFFSETTO:+0000
END:STANDARD
END:VTIMEZONE
BEGIN:VTIMEZONE
TZID:UTC
BEGIN:STANDARD
DTSTART:20250727T053122Z
TZOFFSETFROM:+0000
TZOFFSETTO:+0000
END:STANDARD
END:VTIMEZONE
BEGIN:VEVENT
UID:925-63
DTSTAMP:20260423T053122Z
SUMMARY:Interclubs Régionale 2 - J2 (Aix-en-Provence)
LOCATION:Déplacement extérieur
ORGANIZER;CN=Badminton Olympique de Pernes:MAILTO:communication@badminton-o
 lympique-pernes.com
DTSTART;TZID=Etc/GMT+0:20251109T090000
DTEND;TZID=Etc/GMT+0:20251109T180000
X-ALT-DESC;FMTTYPE=TEXT/HTML:Notre équipe 2 jouera à l'extérieur pour sa
  2ème journée de Régionale 2. Double rencontre : Marignane + Aix.
CATEGORIES:Interclubs
URL;VALUE=URI:https://www.badminton-olympique-pernes.com/mc-events/interclu
 bs-regionale-2-j2-aix-en-provence/
METHOD:PUBLISH
END:VEVENT
END:VCALENDAR