BEGIN:VCALENDAR
VERSION:2.0
PRODID:spatie/icalendar-generator
DESCRIPTION:Évènements de Badminton Olympique Pernes
X-WR-CALDESC:Évènements de Badminton Olympique Pernes
REFRESH-INTERVAL;VALUE=DURATION:PT1440M
X-PUBLISHED-TTL:PT1440M
BEGIN:VTIMEZONE
TZID:Etc/GMT+0
BEGIN:STANDARD
DTSTART:20250319T090000Z
TZOFFSETFROM:+0000
TZOFFSETTO:+0000
END:STANDARD
END:VTIMEZONE
BEGIN:VTIMEZONE
TZID:UTC
BEGIN:STANDARD
DTSTART:20250724T031636Z
TZOFFSETFROM:+0000
TZOFFSETTO:+0000
END:STANDARD
END:VTIMEZONE
BEGIN:VEVENT
UID:926-64
DTSTAMP:20260420T031636Z
SUMMARY:Interclubs Régionale 2 - J3 (Port-de-Bouc)
LOCATION:Déplacement extérieur
ORGANIZER;CN=Badminton Olympique de Pernes:MAILTO:communication@badminton-o
 lympique-pernes.com
DTSTART;TZID=Etc/GMT+0:20251214T090000
DTEND;TZID=Etc/GMT+0:20251214T180000
X-ALT-DESC;FMTTYPE=TEXT/HTML:Notre équipe 2 jouera à l'extérieur pour sa
  3ème journée de Régionale 2. Triple rencontre : Port-de-Bouc + Vitroll
 es + Salon-de-Provence.
CATEGORIES:Interclubs
URL;VALUE=URI:https://www.badminton-olympique-pernes.com/mc-events/interclu
 bs-regionale-2-j3-port-de-bouc/
METHOD:PUBLISH
END:VEVENT
END:VCALENDAR