BEGIN:VCALENDAR
VERSION:2.0
PRODID:spatie/icalendar-generator
DESCRIPTION:Évènements de Badminton Olympique Pernes
X-WR-CALDESC:Évènements de Badminton Olympique Pernes
REFRESH-INTERVAL;VALUE=DURATION:PT1440M
X-PUBLISHED-TTL:PT1440M
BEGIN:VTIMEZONE
TZID:Etc/GMT+0
BEGIN:STANDARD
DTSTART:20250716T090000Z
TZOFFSETFROM:+0000
TZOFFSETTO:+0000
END:STANDARD
END:VTIMEZONE
BEGIN:VTIMEZONE
TZID:UTC
BEGIN:STANDARD
DTSTART:20250725T123921Z
TZOFFSETFROM:+0000
TZOFFSETTO:+0000
END:STANDARD
END:VTIMEZONE
BEGIN:VEVENT
UID:929-67
DTSTAMP:20260421T123921Z
SUMMARY:Interclubs Régionale 2 - J6 (Port-de-Bouc)
LOCATION:Déplacement extérieur
ORGANIZER;CN=Badminton Olympique de Pernes:MAILTO:communication@badminton-o
 lympique-pernes.com
DTSTART;TZID=Etc/GMT+0:20260412T090000
DTEND;TZID=Etc/GMT+0:20260412T180000
X-ALT-DESC;FMTTYPE=TEXT/HTML:Notre équipe 2 jouera à l'extérieur pour sa
  6ème et dernière journée de Régionale 2. Triple rencontre : Port-de-B
 ouc + Vitrolles + Salon-de-Provence.
CATEGORIES:Interclubs
URL;VALUE=URI:https://www.badminton-olympique-pernes.com/mc-events/interclu
 bs-regionale-2-j6-port-de-bouc/
METHOD:PUBLISH
END:VEVENT
END:VCALENDAR