BEGIN:VCALENDAR
VERSION:2.0
PRODID:spatie/icalendar-generator
DESCRIPTION:Évènements de Badminton Olympique Pernes
X-WR-CALDESC:Évènements de Badminton Olympique Pernes
REFRESH-INTERVAL;VALUE=DURATION:PT1440M
X-PUBLISHED-TTL:PT1440M
BEGIN:VTIMEZONE
TZID:Etc/GMT+0
BEGIN:STANDARD
DTSTART:20250504T193000Z
TZOFFSETFROM:+0000
TZOFFSETTO:+0000
END:STANDARD
END:VTIMEZONE
BEGIN:VTIMEZONE
TZID:UTC
BEGIN:STANDARD
DTSTART:20250726T233912Z
TZOFFSETFROM:+0000
TZOFFSETTO:+0000
END:STANDARD
END:VTIMEZONE
BEGIN:VEVENT
UID:945-79
DTSTAMP:20260422T233912Z
SUMMARY:Interclubs Départementale 1 - J6 (L'Isle-sur-la-Sorgue)
LOCATION:Déplacement extérieur
ORGANIZER;CN=Badminton Olympique de Pernes:MAILTO:communication@badminton-o
 lympique-pernes.com
DTSTART;TZID=Etc/GMT+0:20260129T193000
DTEND;TZID=Etc/GMT+0:20260129T230000
X-ALT-DESC;FMTTYPE=TEXT/HTML:Notre équipe 4 se déplacera à L'Isle-sur-la
 -Sorgue pour sa 6ème journée de Départementale 1.
CATEGORIES:Interclubs
URL;VALUE=URI:https://www.badminton-olympique-pernes.com/mc-events/interclu
 bs-departementale-1-j6-lisle-sur-la-sorgue/
METHOD:PUBLISH
END:VEVENT
END:VCALENDAR