BEGIN:VCALENDAR
VERSION:2.0
PRODID:spatie/icalendar-generator
DESCRIPTION:Évènements de Badminton Olympique Pernes
X-WR-CALDESC:Évènements de Badminton Olympique Pernes
REFRESH-INTERVAL;VALUE=DURATION:PT1440M
X-PUBLISHED-TTL:PT1440M
BEGIN:VTIMEZONE
TZID:Etc/GMT+0
BEGIN:STANDARD
DTSTART:20250306T203000Z
TZOFFSETFROM:+0000
TZOFFSETTO:+0000
END:STANDARD
END:VTIMEZONE
BEGIN:VTIMEZONE
TZID:UTC
BEGIN:STANDARD
DTSTART:20250724T045531Z
TZOFFSETFROM:+0000
TZOFFSETTO:+0000
END:STANDARD
END:VTIMEZONE
BEGIN:VEVENT
UID:952-87
DTSTAMP:20260420T045531Z
SUMMARY:Interclubs Départementale 2 - J3 (Morières)
LOCATION:Déplacement extérieur
ORGANIZER;CN=Badminton Olympique de Pernes:MAILTO:communication@badminton-o
 lympique-pernes.com
DTSTART;TZID=Etc/GMT+0:20251201T203000
DTEND;TZID=Etc/GMT+0:20251201T233000
X-ALT-DESC;FMTTYPE=TEXT/HTML:Notre équipe 5 se déplacera à Morières pou
 r sa 3ème journée de Départementale 2.
CATEGORIES:Interclubs
URL;VALUE=URI:https://www.badminton-olympique-pernes.com/mc-events/interclu
 bs-departementale-2-j3-morieres/
METHOD:PUBLISH
END:VEVENT
END:VCALENDAR