BEGIN:VCALENDAR
VERSION:2.0
PRODID:spatie/icalendar-generator
DESCRIPTION:Évènements de Badminton Olympique Pernes
X-WR-CALDESC:Évènements de Badminton Olympique Pernes
REFRESH-INTERVAL;VALUE=DURATION:PT1440M
X-PUBLISHED-TTL:PT1440M
BEGIN:VTIMEZONE
TZID:Etc/GMT+0
BEGIN:STANDARD
DTSTART:20250427T200000Z
TZOFFSETFROM:+0000
TZOFFSETTO:+0000
END:STANDARD
END:VTIMEZONE
BEGIN:VTIMEZONE
TZID:UTC
BEGIN:STANDARD
DTSTART:20250727T032102Z
TZOFFSETFROM:+0000
TZOFFSETTO:+0000
END:STANDARD
END:VTIMEZONE
BEGIN:VEVENT
UID:954-89
DTSTAMP:20260423T032102Z
SUMMARY:Interclubs Départementale 2 - J5 (Orange)
LOCATION:Déplacement extérieur
ORGANIZER;CN=Badminton Olympique de Pernes:MAILTO:communication@badminton-o
 lympique-pernes.com
DTSTART;TZID=Etc/GMT+0:20260122T200000
DTEND;TZID=Etc/GMT+0:20260122T233000
X-ALT-DESC;FMTTYPE=TEXT/HTML:Notre équipe 5 se déplacera à Orange pour s
 a 5ème journée de Départementale 2.
CATEGORIES:Interclubs
URL;VALUE=URI:https://www.badminton-olympique-pernes.com/mc-events/interclu
 bs-departementale-2-j5-orange/
METHOD:PUBLISH
END:VEVENT
END:VCALENDAR