BEGIN:VCALENDAR
VERSION:2.0
PRODID:spatie/icalendar-generator
DESCRIPTION:Évènements de Badminton Olympique Pernes
X-WR-CALDESC:Évènements de Badminton Olympique Pernes
REFRESH-INTERVAL;VALUE=DURATION:PT1440M
X-PUBLISHED-TTL:PT1440M
BEGIN:VTIMEZONE
TZID:Etc/GMT+0
BEGIN:STANDARD
DTSTART:20250113T190000Z
TZOFFSETFROM:+0000
TZOFFSETTO:+0000
END:STANDARD
END:VTIMEZONE
BEGIN:VTIMEZONE
TZID:UTC
BEGIN:STANDARD
DTSTART:20250724T071416Z
TZOFFSETFROM:+0000
TZOFFSETTO:+0000
END:STANDARD
END:VTIMEZONE
BEGIN:VEVENT
UID:960-95
DTSTAMP:20260420T071416Z
SUMMARY:Compétition ping-pong
LOCATION:Gymnase Paul de Vivie
ORGANIZER;CN=Badminton Olympique de Pernes:MAILTO:communication@badminton-o
 lympique-pernes.com
DTSTART;TZID=Etc/GMT+0:20251010T190000
DTEND;TZID=Etc/GMT+0:20251010T230000
X-ALT-DESC;FMTTYPE=TEXT/HTML:
CATEGORIES:Créneaux perturbés
URL;VALUE=URI:https://www.badminton-olympique-pernes.com/mc-events/competit
 ion-ping-pong-3/
METHOD:PUBLISH
END:VEVENT
END:VCALENDAR